BEGIN:VCALENDAR
VERSION:2.0
PRODID:-//Cámara de Comercio de Armenia y del Quindío - ECPv6.15.17//NONSGML v1.0//EN
CALSCALE:GREGORIAN
METHOD:PUBLISH
X-WR-CALNAME:Cámara de Comercio de Armenia y del Quindío
X-ORIGINAL-URL:https://camaraarmenia.org.co
X-WR-CALDESC:Eventos para Cámara de Comercio de Armenia y del Quindío
REFRESH-INTERVAL;VALUE=DURATION:PT1H
X-Robots-Tag:noindex
X-PUBLISHED-TTL:PT1H
BEGIN:VTIMEZONE
TZID:America/Bogota
BEGIN:STANDARD
TZOFFSETFROM:-0500
TZOFFSETTO:-0500
TZNAME:-05
DTSTART:20250101T000000
END:STANDARD
END:VTIMEZONE
BEGIN:VEVENT
DTSTART;TZID=America/Bogota:20260423T080000
DTEND;TZID=America/Bogota:20260423T170000
DTSTAMP:20260423T052651
CREATED:20260414T141936Z
LAST-MODIFIED:20260414T142545Z
UID:11822-1776931200-1776963600@camaraarmenia.org.co
SUMMARY:Salida Experiencial y de Conexión Tendera
DESCRIPTION:La Cámara de Comercio de Armenia y del Quindío invita a los tenderos a participar en esta jornada de integración\, bienestar y relacionamiento en el Parque Soledén. La actividad incluye transporte\, ingreso al parque\, actividades recreativas\, almuerzo y refrigerio. Evento SIN COSTO y con cupos limitados. \n\n\n\nFecha: 23 de abrilHora: 8:00 a. m.Lugar de salida: Cámara de Comercio de Armenia y del QuindíoInscripciones: 317 431 9529 – 313 709 8356
URL:https://camaraarmenia.org.co/eventos/salida-experiencial-y-de-conexion-tendera/
ATTACH;FMTTYPE=image/jpeg:https://camaraarmenia.org.co/wp-content/uploads/2026/04/Salida-experiencial-tenderos.jpeg
END:VEVENT
END:VCALENDAR