BEGIN:VCALENDAR
VERSION:2.0
PRODID:-//Cámara de Comercio de Armenia y del Quindío - ECPv6.15.17//NONSGML v1.0//EN
CALSCALE:GREGORIAN
METHOD:PUBLISH
X-WR-CALNAME:Cámara de Comercio de Armenia y del Quindío
X-ORIGINAL-URL:https://camaraarmenia.org.co
X-WR-CALDESC:Eventos para Cámara de Comercio de Armenia y del Quindío
REFRESH-INTERVAL;VALUE=DURATION:PT1H
X-Robots-Tag:noindex
X-PUBLISHED-TTL:PT1H
BEGIN:VTIMEZONE
TZID:America/Bogota
BEGIN:STANDARD
TZOFFSETFROM:-0500
TZOFFSETTO:-0500
TZNAME:-05
DTSTART:20250101T000000
END:STANDARD
END:VTIMEZONE
BEGIN:VEVENT
DTSTART;TZID=America/Bogota:20260420T100000
DTEND;TZID=America/Bogota:20260420T110000
DTSTAMP:20260422T034352
CREATED:20260414T143002Z
LAST-MODIFIED:20260414T143006Z
UID:11827-1776679200-1776682800@camaraarmenia.org.co
SUMMARY:Webinar: Todo lo que debes saber sobre la Ley del Árbol
DESCRIPTION:Participa en este espacio académico donde conocerás los retos\, oportunidades y el alcance estratégico de la Ley 2173 para el sector empresarial y público\, promoviendo la sostenibilidad y la responsabilidad ambiental. \n\n\n\nConferencista: Sandra Leiva\, Directora General de ECOLOGICModera: Wilmer Burbano\, Coordinador de Comunicaciones del Grupo Empresarial ECOLOGIC \n\n\n\nFecha: 20 de abrilHora: 10:00 a. m.Modalidad: VirtualConéctate aquí: https://events.teams.microsoft.com/event/8deaa368-c4d8-4d1d-a00d-7192300f454e@9cf3a1ff-539f-4d0e-9e26-773c694fab3d
URL:https://camaraarmenia.org.co/eventos/webinar-todo-lo-que-debes-saber-sobre-la-ley-del-arbol/
ATTACH;FMTTYPE=image/jpeg:https://camaraarmenia.org.co/wp-content/uploads/2026/04/webinar-ley-del-arbol.jpeg
END:VEVENT
END:VCALENDAR